BEGIN:VCALENDAR
VERSION:2.0
PRODID:icalendar-ruby
CALSCALE:GREGORIAN
METHOD:PUBLISH
BEGIN:VEVENT
DTSTAMP:20260426T034619Z
UID:20-1788142@friendlyavenue.com
DTSTART:20260902T170000Z
DTEND:20260902T190000Z
CLASS:PUBLIC
CREATED:20260425T190234
DESCRIPTION:Have you lost someone you love? We want to help you work throug
 h the pain of your grief. GriefShare offers Biblical counseling\, encourag
 ement\, and prayer to help you heal.\n\nFacilitators:\nLinda Jenkins\nElai
 ne Falcone\nFrank Beamon
LAST-MODIFIED:20260425T190234
LOCATION:MC-105
SUMMARY:GriefShare
URL;VALUE=URI:https://friendlyavenue.com/events/griefshare/2026-09-02
ATTACH;FILENAME=griefshare-generic-updated-comp.jpg;FMTTYPE=image/jpeg:http
 s://dq5pwpg1q8ru0.cloudfront.net/2025/11/02/00/01/31/79e52d5b-fd51-4abe-8b
 a5-d85e78f11012/griefshare-generic-updated-comp.jpg
END:VEVENT
END:VCALENDAR
