BEGIN:VCALENDAR
VERSION:2.0
PRODID:icalendar-ruby
CALSCALE:GREGORIAN
METHOD:PUBLISH
BEGIN:VEVENT
DTSTAMP:20260424T134124Z
UID:18-1780204@friendlyavenue.com
DTSTART:20261102T010000Z
DTEND:20261102T020000Z
CLASS:PUBLIC
CREATED:20260424T054857
DESCRIPTION:Students participate in The Truth Project bible study. This is 
 a great opportunity to grow in your faith and build community. Led by Trey
  &amp\; Rachel Harrison\, Dan &amp\; AmyGrace Tetreault\, Matt &amp\; Kati
 e Shirtz\, and Adam Shirtz.
LAST-MODIFIED:20260424T054857
LOCATION:Student Room
SUMMARY:FA Students - Sunday Nights
URL;VALUE=URI:https://friendlyavenue.com/events/fa-students-sunday-nights/2
 026-11-01
ATTACH;FILENAME=students-logo-16x9png-01.png;FMTTYPE=image/png:https://dq5p
 wpg1q8ru0.cloudfront.net/2025/10/24/01/27/13/a86ea836-a372-4fb4-8f81-6ed34
 d3cd6ec/students-logo-16x9png-01.png
END:VEVENT
END:VCALENDAR
